BEGIN:VCALENDAR
VERSION:2.0
PRODID:-//Plone.org//NONSGML plone.app.event//EN
X-WR-TIMEZONE:Europe/Madrid
BEGIN:VEVENT
SUMMARY:Cinema infantil
DTSTART;TZID=Europe/Madrid;VALUE=DATE-TIME:20030119T113000
DTEND;TZID=Europe/Madrid;VALUE=DATE-TIME:20030119T123000
DTSTAMP;VALUE=DATE-TIME:20260423T214541Z
UID:8ae9f791077b578cab55e8f0777c8d3c
CREATED;VALUE=DATE-TIME:20030119T000000Z
URL:https://www.canetdemar.cat/document.php?id=157
END:VEVENT
END:VCALENDAR