BEGIN:VCALENDAR
VERSION:2.0
PRODID:-//Plone.org//NONSGML plone.app.event//EN
X-WR-TIMEZONE:Europe/Madrid
BEGIN:VEVENT
SUMMARY:Teatre: Sortir de l'armari
DTSTART;TZID=Europe/Madrid;VALUE=DATE-TIME:20170312T181500
DTEND;TZID=Europe/Madrid;VALUE=DATE-TIME:20170312T191500
DTSTAMP;VALUE=DATE-TIME:20260426T000852Z
UID:266e85dcc1410c5cfaeedebb7368ba3d
CREATED;VALUE=DATE-TIME:20170312T000000Z
CATEGORIES:Teatre
LOCATION:El Centru - Eusebi Golart, 16
ORGANIZER:El Centru
DESCRIPTION:Per la companyia de teatre del Centru
URL:https://www.canetdemar.cat/document.php?id=15682
END:VEVENT
END:VCALENDAR