BEGIN:VCALENDAR
VERSION:2.0
PRODID:-//Plone.org//NONSGML plone.app.event//EN
X-WR-TIMEZONE:Europe/Madrid
BEGIN:VEVENT
SUMMARY:Els olis essencials i les emocions
DTSTART;TZID=Europe/Madrid;VALUE=DATE-TIME:20170321T000000
DTEND;TZID=Europe/Madrid;VALUE=DATE-TIME:20170321T010000
DTSTAMP;VALUE=DATE-TIME:20260426T014048Z
UID:6d81ab70b6aafad778a67adca64ea035
CREATED;VALUE=DATE-TIME:20170321T000000Z
ORGANIZER:Mares Malabaristes
URL:https://www.canetdemar.cat/document.php?id=15674
END:VEVENT
END:VCALENDAR