BEGIN:VCALENDAR
VERSION:2.0
PRODID:-//Plone.org//NONSGML plone.app.event//EN
X-WR-TIMEZONE:Europe/Madrid
BEGIN:VEVENT
SUMMARY:Cursos i tallers de les Mares Malabaristes
DTSTART;TZID=Europe/Madrid;VALUE=DATE-TIME:20170222T000000
DTEND;TZID=Europe/Madrid;VALUE=DATE-TIME:20170222T010000
DTSTAMP;VALUE=DATE-TIME:20260423T150827Z
UID:6174d1f18a1845154da3fb7609021cad
CREATED;VALUE=DATE-TIME:20170222T000000Z
ORGANIZER:Mares Malabaristes
URL:https://www.canetdemar.cat/document.php?id=15670
END:VEVENT
END:VCALENDAR