BEGIN:VCALENDAR
VERSION:2.0
PRODID:-//Plone.org//NONSGML plone.app.event//EN
X-WR-TIMEZONE:Europe/Madrid
BEGIN:VEVENT
SUMMARY:Exposició: Poemes il·lustrats i dibuixos de Canet
DTSTART;TZID=Europe/Madrid;VALUE=DATE-TIME:20170415T190000
DTEND;TZID=Europe/Madrid;VALUE=DATE-TIME:20170415T200000
DTSTAMP;VALUE=DATE-TIME:20260423T221904Z
UID:dff52aaedf88d9817844d6f65c9573d5
CREATED;VALUE=DATE-TIME:20170408T000000Z
LOCATION:Sala Cultural Ramon de Capmany
COMMENT:Durada: del 8 al 23 d'abril de 2017
URL:https://www.canetdemar.cat/document.php?id=15665
END:VEVENT
END:VCALENDAR