BEGIN:VCALENDAR
VERSION:2.0
PRODID:-//Plone.org//NONSGML plone.app.event//EN
X-WR-TIMEZONE:Europe/Madrid
BEGIN:VEVENT
SUMMARY:La música dels llibres: Audició d'acordions
DTSTART;TZID=Europe/Madrid;VALUE=DATE-TIME:20170303T193000
DTEND;TZID=Europe/Madrid;VALUE=DATE-TIME:20170303T203000
DTSTAMP;VALUE=DATE-TIME:20260423T171447Z
UID:efe1728471d3e0631bc23c8d6018395c
CREATED;VALUE=DATE-TIME:20170303T000000Z
LOCATION:Biblioteca P. Gual i Pujadas
ORGANIZER:Escola de Música
URL:https://www.canetdemar.cat/document.php?id=15657
END:VEVENT
END:VCALENDAR