BEGIN:VCALENDAR
VERSION:2.0
PRODID:-//Plone.org//NONSGML plone.app.event//EN
X-WR-TIMEZONE:Europe/Madrid
BEGIN:VEVENT
SUMMARY:Billar: Lliga catalana 3a divisió
DTSTART;TZID=Europe/Madrid;VALUE=DATE-TIME:20170217T170000
DTEND;TZID=Europe/Madrid;VALUE=DATE-TIME:20170217T180000
DTSTAMP;VALUE=DATE-TIME:20260419T190740Z
UID:95910074977cd38adb1dacee3f94fab3
CREATED;VALUE=DATE-TIME:20170217T000000Z
ORGANIZER:Club billar Canet
URL:https://www.canetdemar.cat/document.php?id=15633
END:VEVENT
END:VCALENDAR