BEGIN:VCALENDAR
VERSION:2.0
PRODID:-//Plone.org//NONSGML plone.app.event//EN
X-WR-TIMEZONE:Europe/Madrid
BEGIN:VEVENT
SUMMARY:Jornada de portes obertes SES Sunsi Mora
DTSTART;TZID=Europe/Madrid;VALUE=DATE-TIME:20170319T110000
DTEND;TZID=Europe/Madrid;VALUE=DATE-TIME:20170319T120000
DTSTAMP;VALUE=DATE-TIME:20260423T204325Z
UID:0e980e939e24f5f4656d3715dedee70f
CREATED;VALUE=DATE-TIME:20170319T000000Z
LOCATION:SES Sunsi Mora
ORGANIZER:SES Sunsi Mora
URL:https://www.canetdemar.cat/document.php?id=15618
END:VEVENT
END:VCALENDAR