BEGIN:VCALENDAR
VERSION:2.0
PRODID:-//Plone.org//NONSGML plone.app.event//EN
X-WR-TIMEZONE:Europe/Madrid
BEGIN:VEVENT
SUMMARY:L'Enterro
DTSTART;TZID=Europe/Madrid;VALUE=DATE-TIME:20170301T200000
DTEND;TZID=Europe/Madrid;VALUE=DATE-TIME:20170301T210000
DTSTAMP;VALUE=DATE-TIME:20260424T220529Z
UID:2231d192079dc69544c465bb55379416
CREATED;VALUE=DATE-TIME:20170301T000000Z
ORGANIZER:Comissió de Carnaval
DESCRIPTION:Carnaval 2017
URL:https://www.canetdemar.cat/document.php?id=15559
END:VEVENT
END:VCALENDAR