BEGIN:VCALENDAR
VERSION:2.0
PRODID:-//Plone.org//NONSGML plone.app.event//EN
X-WR-TIMEZONE:Europe/Madrid
BEGIN:VEVENT
SUMMARY:L'Arribo
DTSTART;TZID=Europe/Madrid;VALUE=DATE-TIME:20170224T200000
DTEND;TZID=Europe/Madrid;VALUE=DATE-TIME:20170224T210000
DTSTAMP;VALUE=DATE-TIME:20260424T221644Z
UID:fd8a8b3858749297e8b8652d04c0c93b
CREATED;VALUE=DATE-TIME:20170224T000000Z
LOCATION:carrers de Canet
ORGANIZER:Comissió de Carnaval
DESCRIPTION:Carnaval 2017
URL:https://www.canetdemar.cat/document.php?id=15556
END:VEVENT
END:VCALENDAR