BEGIN:VCALENDAR
VERSION:2.0
PRODID:-//Plone.org//NONSGML plone.app.event//EN
X-WR-TIMEZONE:Europe/Madrid
BEGIN:VEVENT
SUMMARY:Donació sang
DTSTART;TZID=Europe/Madrid;VALUE=DATE-TIME:20170121T163000
DTEND;TZID=Europe/Madrid;VALUE=DATE-TIME:20170121T173000
DTSTAMP;VALUE=DATE-TIME:20260423T190819Z
UID:700528890ce5dec9b461e54fd84564b1
CREATED;VALUE=DATE-TIME:20170121T000000Z
LOCATION:Centre d'Atenció Primària - CAP - Plaça Universitat, 1
ORGANIZER:Banc de Sang i teixits
COMMENT:Durada: dissabte 21 de gener de 16.30 a 19.30 hores i diumenge 22 de gener de 10.00 a 14.00 hores
URL:https://www.canetdemar.cat/document.php?id=15551
END:VEVENT
END:VCALENDAR