BEGIN:VCALENDAR
VERSION:2.0
PRODID:-//Plone.org//NONSGML plone.app.event//EN
X-WR-TIMEZONE:Europe/Madrid
BEGIN:VEVENT
SUMMARY:Ball a l´esplai
DTSTART;TZID=Europe/Madrid;VALUE=DATE-TIME:20170205T180000
DTEND;TZID=Europe/Madrid;VALUE=DATE-TIME:20170205T190000
DTSTAMP;VALUE=DATE-TIME:20260423T185614Z
UID:81058cfd745f2997aef74f5c637af1b5
CREATED;VALUE=DATE-TIME:20170205T000000Z
ORGANIZER:GGespaiCaixa
URL:https://www.canetdemar.cat/document.php?id=15524
END:VEVENT
END:VCALENDAR