BEGIN:VCALENDAR
VERSION:2.0
PRODID:-//Plone.org//NONSGML plone.app.event//EN
X-WR-TIMEZONE:Europe/Madrid
BEGIN:VEVENT
SUMMARY:Teatre: La dona de l'encarregat
DTSTART;TZID=Europe/Madrid;VALUE=DATE-TIME:20170305T181500
DTEND;TZID=Europe/Madrid;VALUE=DATE-TIME:20170305T191500
DTSTAMP;VALUE=DATE-TIME:20260424T101248Z
UID:410d27710b0729823c55399dddd11e1c
CREATED;VALUE=DATE-TIME:20170305T000000Z
CATEGORIES:Teatre
LOCATION:El Centru (Eusebi Golart, 16)
DESCRIPTION:XLIII Concurs de teatre Premi Pedracastell 2017
URL:https://www.canetdemar.cat/document.php?id=15513
END:VEVENT
END:VCALENDAR