BEGIN:VCALENDAR
VERSION:2.0
PRODID:-//Plone.org//NONSGML plone.app.event//EN
X-WR-TIMEZONE:Europe/Madrid
BEGIN:VEVENT
SUMMARY:Teatre: Lampedusa
DTSTART;TZID=Europe/Madrid;VALUE=DATE-TIME:20170205T181500
DTEND;TZID=Europe/Madrid;VALUE=DATE-TIME:20170205T191500
DTSTAMP;VALUE=DATE-TIME:20260423T000132Z
UID:2e97ad63ea6f9f85da219084d0615e0a
CREATED;VALUE=DATE-TIME:20170205T000000Z
CATEGORIES:Teatre
LOCATION:El Centru (Eusebi Golart, 16)
ORGANIZER:El Centru
DESCRIPTION:XLIII Concurs de teatre Premi Pedracastell 2017
URL:https://www.canetdemar.cat/document.php?id=15510
END:VEVENT
END:VCALENDAR