BEGIN:VCALENDAR
VERSION:2.0
PRODID:-//Plone.org//NONSGML plone.app.event//EN
X-WR-TIMEZONE:Europe/Madrid
BEGIN:VEVENT
SUMMARY:Cinema alternatiu: Un final made in Hollywood
DTSTART;TZID=Europe/Madrid;VALUE=DATE-TIME:20030117T220000
DTEND;TZID=Europe/Madrid;VALUE=DATE-TIME:20030117T230000
DTSTAMP;VALUE=DATE-TIME:20260422T072130Z
UID:a117b32d0949f45a3e17505305e42cef
CREATED;VALUE=DATE-TIME:20030117T000000Z
URL:https://www.canetdemar.cat/document.php?id=155
END:VEVENT
END:VCALENDAR