BEGIN:VCALENDAR
VERSION:2.0
PRODID:-//Plone.org//NONSGML plone.app.event//EN
X-WR-TIMEZONE:Europe/Madrid
BEGIN:VEVENT
SUMMARY:Curs per aprendre Word, excel, internet, smartphones i tablets
DTSTART;TZID=Europe/Madrid;VALUE=DATE-TIME:20170104T085100
DTEND;TZID=Europe/Madrid;VALUE=DATE-TIME:20170104T095100
DTSTAMP;VALUE=DATE-TIME:20260423T120036Z
UID:106465b449ed03bacea9e6d1f7ca21db
CREATED;VALUE=DATE-TIME:20170104T000000Z
LOCATION:Centre Cívic i Cultural Vil·la Flora
ORGANIZER:Associació de dones Sàlvia
COMMENT:Preu: 25 euros/mes
Durada: dilluns de 19.00 a 20.00 hores
URL:https://www.canetdemar.cat/document.php?id=15495
END:VEVENT
END:VCALENDAR