BEGIN:VCALENDAR
VERSION:2.0
PRODID:-//Plone.org//NONSGML plone.app.event//EN
X-WR-TIMEZONE:Europe/Madrid
BEGIN:VEVENT
SUMMARY:Exposició de Rosario Muñoz
DTSTART;TZID=Europe/Madrid;VALUE=DATE-TIME:20050530T000000
DTEND;TZID=Europe/Madrid;VALUE=DATE-TIME:20050530T010000
DTSTAMP;VALUE=DATE-TIME:20260423T171517Z
UID:a761b8b2c862546d9c73c7ceceadf535
CREATED;VALUE=DATE-TIME:20050530T000000Z
URL:https://www.canetdemar.cat/document.php?id=1548
END:VEVENT
END:VCALENDAR