BEGIN:VCALENDAR
VERSION:2.0
PRODID:-//Plone.org//NONSGML plone.app.event//EN
X-WR-TIMEZONE:Europe/Madrid
BEGIN:VEVENT
SUMMARY:Teatre: Un esperit burleta
DTSTART;TZID=Europe/Madrid;VALUE=DATE-TIME:20160122T181500
DTEND;TZID=Europe/Madrid;VALUE=DATE-TIME:20160122T191500
DTSTAMP;VALUE=DATE-TIME:20260424T201637Z
UID:2c44cb94dbff70b27977d831566b6b94
CREATED;VALUE=DATE-TIME:20160122T000000Z
CATEGORIES:Teatre
LOCATION:Centre Parroquial - Eusebi Golart, 16
ORGANIZER:El Centru
DESCRIPTION:XLIII Concurs de teatre Premi Pedracastell 2017
URL:https://www.canetdemar.cat/document.php?id=15453
END:VEVENT
END:VCALENDAR