BEGIN:VCALENDAR
VERSION:2.0
PRODID:-//Plone.org//NONSGML plone.app.event//EN
X-WR-TIMEZONE:Europe/Madrid
BEGIN:VEVENT
SUMMARY:Exposició: Camps de Voluntariat
DTSTART;TZID=Europe/Madrid;VALUE=DATE-TIME:20161214T000000
DTEND;TZID=Europe/Madrid;VALUE=DATE-TIME:20161214T010000
DTSTAMP;VALUE=DATE-TIME:20260425T210806Z
UID:16db087abd913e7831a93beaf1b1e20c
CREATED;VALUE=DATE-TIME:20161214T000000Z
CATEGORIES:Exposició
LOCATION:Biblioteca P. Gual i Pujadas
COMMENT:Preu: Gratuït
Durada: Fins al 22 desembre 2016
URL:https://www.canetdemar.cat/document.php?id=15451
END:VEVENT
END:VCALENDAR