BEGIN:VCALENDAR
VERSION:2.0
PRODID:-//Plone.org//NONSGML plone.app.event//EN
X-WR-TIMEZONE:Europe/Madrid
BEGIN:VEVENT
SUMMARY:Presentació del llibre: Anar de debò de Borja de Riquer i Permanyer
DTSTART;TZID=Europe/Madrid;VALUE=DATE-TIME:20170129T120000
DTEND;TZID=Europe/Madrid;VALUE=DATE-TIME:20170129T130000
DTSTAMP;VALUE=DATE-TIME:20260422T112139Z
UID:986904687a2fe38eee3b6bba03ed1531
CREATED;VALUE=DATE-TIME:20170129T000000Z
CATEGORIES:Literatura
LOCATION:Sala Cultural Ramon de Capmany
ORGANIZER:Plataforma per la Llengua Canet de Mar
COMMENT:Preu: Gratuït
DESCRIPTION:Els catalans i Espanya
URL:https://www.canetdemar.cat/document.php?id=15448
END:VEVENT
END:VCALENDAR