BEGIN:VCALENDAR
VERSION:2.0
PRODID:-//Plone.org//NONSGML plone.app.event//EN
X-WR-TIMEZONE:Europe/Madrid
BEGIN:VEVENT
SUMMARY:Club de Lectura
DTSTART;TZID=Europe/Madrid;VALUE=DATE-TIME:20170217T163000
DTEND;TZID=Europe/Madrid;VALUE=DATE-TIME:20170217T173000
DTSTAMP;VALUE=DATE-TIME:20260419T190858Z
UID:60c67ba729cf78284d6e95290a1f4c79
CREATED;VALUE=DATE-TIME:20170217T000000Z
CATEGORIES:Literatura
LOCATION:Biblioteca P. Gual i Pujadas
ORGANIZER:Biblioteca P. Gual i Pujadas
URL:https://www.canetdemar.cat/document.php?id=15387
END:VEVENT
END:VCALENDAR