BEGIN:VCALENDAR
VERSION:2.0
PRODID:-//Plone.org//NONSGML plone.app.event//EN
X-WR-TIMEZONE:Europe/Madrid
BEGIN:VEVENT
SUMMARY:Diverteix-te sent solidari, VINE A FER L'INDI 3!
DTSTART;TZID=Europe/Madrid;VALUE=DATE-TIME:20050528T220000
DTEND;TZID=Europe/Madrid;VALUE=DATE-TIME:20050528T230000
DTSTAMP;VALUE=DATE-TIME:20260424T084149Z
UID:7abbf845ddaef23ef390ab660c4d09e7
CREATED;VALUE=DATE-TIME:20050528T000000Z
URL:https://www.canetdemar.cat/document.php?id=1538
END:VEVENT
END:VCALENDAR