BEGIN:VCALENDAR
VERSION:2.0
PRODID:-//Plone.org//NONSGML plone.app.event//EN
X-WR-TIMEZONE:Europe/Madrid
BEGIN:VEVENT
SUMMARY:Recital de música i poesia: El pessebre cantant
DTSTART;TZID=Europe/Madrid;VALUE=DATE-TIME:20161227T200000
DTEND;TZID=Europe/Madrid;VALUE=DATE-TIME:20161227T210000
DTSTAMP;VALUE=DATE-TIME:20260422T183503Z
UID:d5c1af41cda80025d619aaeb9e4b46f3
CREATED;VALUE=DATE-TIME:20161227T000000Z
LOCATION:Casa museu Lluís Domènech i Montaner
ORGANIZER:Àrea de Cultura
DESCRIPTION:Dia Domènech i Montaner
URL:https://www.canetdemar.cat/document.php?id=15374
END:VEVENT
END:VCALENDAR