BEGIN:VCALENDAR
VERSION:2.0
PRODID:-//Plone.org//NONSGML plone.app.event//EN
X-WR-TIMEZONE:Europe/Madrid
BEGIN:VEVENT
SUMMARY:Exposició: Paraules de ciment
DTSTART;TZID=Europe/Madrid;VALUE=DATE-TIME:20161222T190000
DTEND;TZID=Europe/Madrid;VALUE=DATE-TIME:20161222T200000
DTSTAMP;VALUE=DATE-TIME:20260424T131442Z
UID:1aabfc6ab89dc65e75fb58f4c437ec3a
CREATED;VALUE=DATE-TIME:20161222T000000Z
LOCATION:Sala Cultural Ramon de Capmany
ORGANIZER:Àrea de Cultura
DESCRIPTION:de l'artista santanyier Llorenç Garrit
URL:https://www.canetdemar.cat/document.php?id=15372
END:VEVENT
END:VCALENDAR