BEGIN:VCALENDAR
VERSION:2.0
PRODID:-//Plone.org//NONSGML plone.app.event//EN
X-WR-TIMEZONE:Europe/Madrid
BEGIN:VEVENT
SUMMARY:Conferència: Independència i República
DTSTART;TZID=Europe/Madrid;VALUE=DATE-TIME:20161216T190000
DTEND;TZID=Europe/Madrid;VALUE=DATE-TIME:20161216T200000
DTSTAMP;VALUE=DATE-TIME:20260425T222443Z
UID:e85612bf1ae24a9e6f8a275517b731ac
CREATED;VALUE=DATE-TIME:20161216T000000Z
LOCATION:Aula Magna CRTTT - Escola de Teixits
ORGANIZER:ANC Canet
DESCRIPTION:Amb Santiago Vidal i Jordi Domingo
URL:https://www.canetdemar.cat/document.php?id=15352
END:VEVENT
END:VCALENDAR