BEGIN:VCALENDAR
VERSION:2.0
PRODID:-//Plone.org//NONSGML plone.app.event//EN
X-WR-TIMEZONE:Europe/Madrid
BEGIN:VEVENT
SUMMARY:Ball de Cap d'any
DTSTART;TZID=Europe/Madrid;VALUE=DATE-TIME:20170101T010000
DTEND;TZID=Europe/Madrid;VALUE=DATE-TIME:20170101T020000
DTSTAMP;VALUE=DATE-TIME:20260423T032834Z
UID:b6bfb294d6062aa7911ea3abe74dee9e
CREATED;VALUE=DATE-TIME:20170101T000000Z
ORGANIZER:Àrea de Festes
COMMENT:Preu: entrada + consumició de benvinguda i cotilló: 5 euros. Aforament limitat
DESCRIPTION:amb l'Orquestra Litoral i DJLitus
URL:https://www.canetdemar.cat/document.php?id=15348
END:VEVENT
END:VCALENDAR