BEGIN:VCALENDAR
VERSION:2.0
PRODID:-//Plone.org//NONSGML plone.app.event//EN
X-WR-TIMEZONE:Europe/Madrid
BEGIN:VEVENT
SUMMARY:Les 12 Campanades
DTSTART;TZID=Europe/Madrid;VALUE=DATE-TIME:20161231T235500
DTEND;TZID=Europe/Madrid;VALUE=DATE-TIME:20170101T005500
DTSTAMP;VALUE=DATE-TIME:20260423T015549Z
UID:ad5801883962f36fa2c918c20514fc66
CREATED;VALUE=DATE-TIME:20161231T000000Z
LOCATION:plaça Macià
URL:https://www.canetdemar.cat/document.php?id=15347
END:VEVENT
END:VCALENDAR