BEGIN:VCALENDAR
VERSION:2.0
PRODID:-//Plone.org//NONSGML plone.app.event//EN
X-WR-TIMEZONE:Europe/Madrid
BEGIN:VEVENT
SUMMARY:Missatge de Cap d'any de l'alcaldessa
DTSTART;TZID=Europe/Madrid;VALUE=DATE-TIME:20161231T130000
DTEND;TZID=Europe/Madrid;VALUE=DATE-TIME:20161231T140000
DTSTAMP;VALUE=DATE-TIME:20260424T084007Z
UID:31b58fbc031fdf2a29c7c065423b4d33
CREATED;VALUE=DATE-TIME:20161231T000000Z
LOCATION:Ràdio Canet
ORGANIZER:Ràdio Canet
URL:https://www.canetdemar.cat/document.php?id=15346
END:VEVENT
END:VCALENDAR