BEGIN:VCALENDAR
VERSION:2.0
PRODID:-//Plone.org//NONSGML plone.app.event//EN
X-WR-TIMEZONE:Europe/Madrid
BEGIN:VEVENT
SUMMARY:Parc Infantil i tallers de Nadal
DTSTART;TZID=Europe/Madrid;VALUE=DATE-TIME:20161228T110000
DTEND;TZID=Europe/Madrid;VALUE=DATE-TIME:20161228T120000
DTSTAMP;VALUE=DATE-TIME:20260424T220717Z
UID:f9a077dcd354b952a8fd1139f34f4b32
CREATED;VALUE=DATE-TIME:20161228T000000Z
LOCATION:Envelat de Vil·la Flora
ORGANIZER:Àrea de Festes
COMMENT:Durada: 27, 28, 29 i 30 de desembre d'11 a 14.00 i de 17.00 a 20.00 hores
URL:https://www.canetdemar.cat/document.php?id=15343
END:VEVENT
END:VCALENDAR