BEGIN:VCALENDAR
VERSION:2.0
PRODID:-//Plone.org//NONSGML plone.app.event//EN
X-WR-TIMEZONE:Europe/Madrid
BEGIN:VEVENT
SUMMARY:Missa del Gall
DTSTART;TZID=Europe/Madrid;VALUE=DATE-TIME:20161224T000000
DTEND;TZID=Europe/Madrid;VALUE=DATE-TIME:20161224T010000
DTSTAMP;VALUE=DATE-TIME:20260424T011744Z
UID:b5bfaeedb4181eea7fd7acce35c487d0
CREATED;VALUE=DATE-TIME:20161224T000000Z
LOCATION:Església Parroquial
URL:https://www.canetdemar.cat/document.php?id=15335
END:VEVENT
END:VCALENDAR