BEGIN:VCALENDAR
VERSION:2.0
PRODID:-//Plone.org//NONSGML plone.app.event//EN
X-WR-TIMEZONE:Europe/Madrid
BEGIN:VEVENT
SUMMARY:Fira de Nadal d'artesania
DTSTART;TZID=Europe/Madrid;VALUE=DATE-TIME:20161203T100000
DTEND;TZID=Europe/Madrid;VALUE=DATE-TIME:20161203T110000
DTSTAMP;VALUE=DATE-TIME:20260422T054043Z
UID:e79be756258f385e0c53b69c9c7aa8ef
CREATED;VALUE=DATE-TIME:20161203T000000Z
LOCATION:riera Sant Domènec
ORGANIZER:Àrea de Promoció Econòmica
COMMENT:Durada: 3, 4, 5 i 6 de desembre de 2016 de 10.00 a 21.00 hores
URL:https://www.canetdemar.cat/document.php?id=15320
END:VEVENT
END:VCALENDAR