BEGIN:VCALENDAR
VERSION:2.0
PRODID:-//Plone.org//NONSGML plone.app.event//EN
X-WR-TIMEZONE:Europe/Madrid
BEGIN:VEVENT
SUMMARY:3r taller: Socialización
DTSTART;TZID=Europe/Madrid;VALUE=DATE-TIME:20170219T000000
DTEND;TZID=Europe/Madrid;VALUE=DATE-TIME:20170219T010000
DTSTAMP;VALUE=DATE-TIME:20260422T221439Z
UID:7611bf07cef51b7ece61ec36a9fc682a
CREATED;VALUE=DATE-TIME:20170219T000000Z
URL:https://www.canetdemar.cat/document.php?id=15307
END:VEVENT
END:VCALENDAR