BEGIN:VCALENDAR
VERSION:2.0
PRODID:-//Plone.org//NONSGML plone.app.event//EN
X-WR-TIMEZONE:Europe/Madrid
BEGIN:VEVENT
SUMMARY:Ruta Indians i Cementiri
DTSTART;TZID=Europe/Madrid;VALUE=DATE-TIME:20161029T110000
DTEND;TZID=Europe/Madrid;VALUE=DATE-TIME:20161029T120000
DTSTAMP;VALUE=DATE-TIME:20260424T162716Z
UID:5e5b69a36d0f0d480f93d40b5ccd87a4
CREATED;VALUE=DATE-TIME:20161029T000000Z
ORGANIZER:Àrea de Cultura
COMMENT:Preu: 7 euros
Durada: Dues hores
URL:https://www.canetdemar.cat/document.php?id=15291
END:VEVENT
END:VCALENDAR