BEGIN:VCALENDAR
VERSION:2.0
PRODID:-//Plone.org//NONSGML plone.app.event//EN
X-WR-TIMEZONE:Europe/Madrid
BEGIN:VEVENT
SUMMARY:Conferència Ciència i corrupció
DTSTART;TZID=Europe/Madrid;VALUE=DATE-TIME:20161112T120000
DTEND;TZID=Europe/Madrid;VALUE=DATE-TIME:20161112T130000
DTSTAMP;VALUE=DATE-TIME:20260423T133750Z
UID:f6f7e53bdf5443744ca76384460012dd
CREATED;VALUE=DATE-TIME:20161112T000000Z
LOCATION:Escola de Teixits de Punt &ndash; CRTTT
ORGANIZER:Àrea de Cultura
URL:https://www.canetdemar.cat/document.php?id=15276
END:VEVENT
END:VCALENDAR