BEGIN:VCALENDAR
VERSION:2.0
PRODID:-//Plone.org//NONSGML plone.app.event//EN
X-WR-TIMEZONE:Europe/Madrid
BEGIN:VEVENT
SUMMARY:DesTAPA Canet Tardor 2016
DTSTART;TZID=Europe/Madrid;VALUE=DATE-TIME:20161104T000000
DTEND;TZID=Europe/Madrid;VALUE=DATE-TIME:20161104T010000
DTSTAMP;VALUE=DATE-TIME:20260423T235758Z
UID:b2f87c4a08035f98eab6add85588149a
CREATED;VALUE=DATE-TIME:20161104T000000Z
LOCATION:Diversos bars i restaurants de Canet
COMMENT:Durada: del 4 al 13 de novembre de 2016
URL:https://www.canetdemar.cat/document.php?id=15269
END:VEVENT
END:VCALENDAR