BEGIN:VCALENDAR
VERSION:2.0
PRODID:-//Plone.org//NONSGML plone.app.event//EN
X-WR-TIMEZONE:Europe/Madrid
BEGIN:VEVENT
SUMMARY:Exposició: Memorial Josep Tenas (1943-1996)
DTSTART;TZID=Europe/Madrid;VALUE=DATE-TIME:20161118T000000
DTEND;TZID=Europe/Madrid;VALUE=DATE-TIME:20161118T010000
DTSTAMP;VALUE=DATE-TIME:20260426T000630Z
UID:d83e58bd2119223c90ad708b469c7cca
CREATED;VALUE=DATE-TIME:20161118T000000Z
ORGANIZER:Estudi Tenas i Àrea de Cultura
COMMENT:Durada: del 18 al 27 de novembre de 2016
URL:https://www.canetdemar.cat/document.php?id=15263
END:VEVENT
END:VCALENDAR