BEGIN:VCALENDAR
VERSION:2.0
PRODID:-//Plone.org//NONSGML plone.app.event//EN
X-WR-TIMEZONE:Europe/Madrid
BEGIN:VEVENT
SUMMARY:Lliurament Premis de la Mostra Literària del Maresme
DTSTART;TZID=Europe/Madrid;VALUE=DATE-TIME:20161113T113000
DTEND;TZID=Europe/Madrid;VALUE=DATE-TIME:20161113T123000
DTSTAMP;VALUE=DATE-TIME:20260424T171019Z
UID:07dccc6fb04c9b78b8e5ec23a78e7ac6
CREATED;VALUE=DATE-TIME:20161113T000000Z
CATEGORIES:Literatura
LOCATION:Aula Magna CRTTT - Escola de Teixits
ORGANIZER:Àrea de Cultura i Consell Comarcal del Maresme
URL:https://www.canetdemar.cat/document.php?id=15245
END:VEVENT
END:VCALENDAR