BEGIN:VCALENDAR
VERSION:2.0
PRODID:-//Plone.org//NONSGML plone.app.event//EN
X-WR-TIMEZONE:Europe/Madrid
BEGIN:VEVENT
SUMMARY:El Malalt Crònic / En Barba Azul
DTSTART;TZID=Europe/Madrid;VALUE=DATE-TIME:20161106T181500
DTEND;TZID=Europe/Madrid;VALUE=DATE-TIME:20161106T191500
DTSTAMP;VALUE=DATE-TIME:20260423T172502Z
UID:8e6a395b397088c5463f83af595a4d36
CREATED;VALUE=DATE-TIME:20161106T000000Z
CATEGORIES:Teatre
LOCATION:El Centru
ORGANIZER:El Centru - Centre Parroquial
DESCRIPTION:Dos sainets d'en Santiago Rusiñol
URL:https://www.canetdemar.cat/document.php?id=15244
END:VEVENT
END:VCALENDAR