BEGIN:VCALENDAR
VERSION:2.0
PRODID:-//Plone.org//NONSGML plone.app.event//EN
X-WR-TIMEZONE:Europe/Madrid
BEGIN:VEVENT
SUMMARY:El Malalt Crònic / En Barba Azul
DTSTART;TZID=Europe/Madrid;VALUE=DATE-TIME:20161105T181500
DTEND;TZID=Europe/Madrid;VALUE=DATE-TIME:20161105T191500
DTSTAMP;VALUE=DATE-TIME:20260423T132758Z
UID:98c8b43fda6c73fe08e1ab1b51af797f
CREATED;VALUE=DATE-TIME:20161105T000000Z
CATEGORIES:Teatre
LOCATION:El Centru
ORGANIZER:El Centru - Centre Parroquial
DESCRIPTION:Dos sainets d'en Santiago Rusiñol
URL:https://www.canetdemar.cat/document.php?id=15243
END:VEVENT
END:VCALENDAR