BEGIN:VCALENDAR
VERSION:2.0
PRODID:-//Plone.org//NONSGML plone.app.event//EN
X-WR-TIMEZONE:Europe/Madrid
BEGIN:VEVENT
SUMMARY:Cinema infantil
DTSTART;TZID=Europe/Madrid;VALUE=DATE-TIME:20050515T113000
DTEND;TZID=Europe/Madrid;VALUE=DATE-TIME:20050515T123000
DTSTAMP;VALUE=DATE-TIME:20260424T120030Z
UID:557fa2fefe15a14c9db7a8cc108b7f18
CREATED;VALUE=DATE-TIME:20050515T000000Z
URL:https://www.canetdemar.cat/document.php?id=1523
END:VEVENT
END:VCALENDAR