BEGIN:VCALENDAR
VERSION:2.0
PRODID:-//Plone.org//NONSGML plone.app.event//EN
X-WR-TIMEZONE:Europe/Madrid
BEGIN:VEVENT
SUMMARY:VII marxa popular
DTSTART;TZID=Europe/Madrid;VALUE=DATE-TIME:20050515T080000
DTEND;TZID=Europe/Madrid;VALUE=DATE-TIME:20050515T090000
DTSTAMP;VALUE=DATE-TIME:20260423T033813Z
UID:8d07f7aea19eb9e1031fc85e95a492a9
CREATED;VALUE=DATE-TIME:20050515T000000Z
URL:https://www.canetdemar.cat/document.php?id=1522
END:VEVENT
END:VCALENDAR