BEGIN:VCALENDAR
VERSION:2.0
PRODID:-//Plone.org//NONSGML plone.app.event//EN
X-WR-TIMEZONE:Europe/Madrid
BEGIN:VEVENT
SUMMARY:70's de cine: Alien, el Octavo pasajero
DTSTART;TZID=Europe/Madrid;VALUE=DATE-TIME:20161125T210000
DTEND;TZID=Europe/Madrid;VALUE=DATE-TIME:20161125T220000
DTSTAMP;VALUE=DATE-TIME:20260423T051301Z
UID:26855143f3718e3bc29f4a97bc61654c
CREATED;VALUE=DATE-TIME:20161125T000000Z
LOCATION:Centre Parroquial
ORGANIZER:Associació Cultural Plataforma Odèon - ACPO
URL:https://www.canetdemar.cat/document.php?id=15213
END:VEVENT
END:VCALENDAR