BEGIN:VCALENDAR
VERSION:2.0
PRODID:-//Plone.org//NONSGML plone.app.event//EN
X-WR-TIMEZONE:Europe/Madrid
BEGIN:VEVENT
SUMMARY:Conferència sobre el tema de la Marató de TV3
DTSTART;TZID=Europe/Madrid;VALUE=DATE-TIME:20161215T183000
DTEND;TZID=Europe/Madrid;VALUE=DATE-TIME:20161215T193000
DTSTAMP;VALUE=DATE-TIME:20260422T203648Z
UID:2ba97e0ffb328bd99cd1eafa8e6b7be7
CREATED;VALUE=DATE-TIME:20161215T000000Z
CATEGORIES:Conferència
LOCATION:Aula Magna CRTTT - Escola de Teixits
ORGANIZER:Sàlvia, Associació de dones
COMMENT:Preu: gratuït
DESCRIPTION:Dedicada a l'ictus i les lesions medul·lars i cerebrals traumàtiques
URL:https://www.canetdemar.cat/document.php?id=15208
END:VEVENT
END:VCALENDAR