BEGIN:VCALENDAR
VERSION:2.0
PRODID:-//Plone.org//NONSGML plone.app.event//EN
X-WR-TIMEZONE:Europe/Madrid
BEGIN:VEVENT
SUMMARY:Xerrada col.loqui: Quin urbanisme tenim?
DTSTART;TZID=Europe/Madrid;VALUE=DATE-TIME:20050513T200000
DTEND;TZID=Europe/Madrid;VALUE=DATE-TIME:20050513T210000
DTSTAMP;VALUE=DATE-TIME:20260423T120816Z
UID:708ce18b3f865e46c1e8bed2ae306b00
CREATED;VALUE=DATE-TIME:20050513T000000Z
URL:https://www.canetdemar.cat/document.php?id=1519
END:VEVENT
END:VCALENDAR