BEGIN:VCALENDAR
VERSION:2.0
PRODID:-//Plone.org//NONSGML plone.app.event//EN
X-WR-TIMEZONE:Europe/Madrid
BEGIN:VEVENT
SUMMARY:Taller de numerologia evolutiva
DTSTART;TZID=Europe/Madrid;VALUE=DATE-TIME:20161003T180000
DTEND;TZID=Europe/Madrid;VALUE=DATE-TIME:20161003T190000
DTSTAMP;VALUE=DATE-TIME:20260425T050922Z
UID:ea208523e9a674b63437cd4f198df2b4
CREATED;VALUE=DATE-TIME:20161003T000000Z
LOCATION:Seu Sàlvia - plaça Manén
ORGANIZER:Associació de dones Sàlvia
COMMENT:Preu: 25 euros
DESCRIPTION:A càrrec de Joy Batres
URL:https://www.canetdemar.cat/document.php?id=15184
END:VEVENT
END:VCALENDAR