BEGIN:VCALENDAR
VERSION:2.0
PRODID:-//Plone.org//NONSGML plone.app.event//EN
X-WR-TIMEZONE:Europe/Madrid
BEGIN:VEVENT
SUMMARY:Cinema: Star Wars. El despertar de la força
DTSTART;TZID=Europe/Madrid;VALUE=DATE-TIME:20170114T173000
DTEND;TZID=Europe/Madrid;VALUE=DATE-TIME:20170114T183000
DTSTAMP;VALUE=DATE-TIME:20260424T083848Z
UID:2411dd9b9b981a21f9a995186af71696
CREATED;VALUE=DATE-TIME:20170114T000000Z
CATEGORIES:Cinema
LOCATION:Centre Parroquial (C. Eusebi Golart, 16)
ORGANIZER:Plataforma per la Llengua Canet de Mar
COMMENT:Preu: Gratuït
DESCRIPTION:Cinema infantil en català (CINC)
URL:https://www.canetdemar.cat/document.php?id=15162
END:VEVENT
END:VCALENDAR