BEGIN:VCALENDAR
VERSION:2.0
PRODID:-//Plone.org//NONSGML plone.app.event//EN
X-WR-TIMEZONE:Europe/Madrid
BEGIN:VEVENT
SUMMARY:Diumenge de ball
DTSTART;TZID=Europe/Madrid;VALUE=DATE-TIME:20161009T190000
DTEND;TZID=Europe/Madrid;VALUE=DATE-TIME:20161009T200000
DTSTAMP;VALUE=DATE-TIME:20260424T040706Z
UID:5e5db83d815f2b52564bb1b900fb05b1
CREATED;VALUE=DATE-TIME:20161009T000000Z
LOCATION:Envelat de Vil·la Flora
ORGANIZER:Amics del ball
URL:https://www.canetdemar.cat/document.php?id=15149
END:VEVENT
END:VCALENDAR