BEGIN:VCALENDAR
VERSION:2.0
PRODID:-//Plone.org//NONSGML plone.app.event//EN
X-WR-TIMEZONE:Europe/Madrid
BEGIN:VEVENT
SUMMARY:Diumenge de ball
DTSTART;TZID=Europe/Madrid;VALUE=DATE-TIME:20160925T190000
DTEND;TZID=Europe/Madrid;VALUE=DATE-TIME:20160925T200000
DTSTAMP;VALUE=DATE-TIME:20260423T032419Z
UID:a96e86b528e936211b71ada52c464b34
CREATED;VALUE=DATE-TIME:20160925T000000Z
LOCATION:Envelat de Vil·la Flora
ORGANIZER:Amics del ball
URL:https://www.canetdemar.cat/document.php?id=15147
END:VEVENT
END:VCALENDAR