BEGIN:VCALENDAR
VERSION:2.0
PRODID:-//Plone.org//NONSGML plone.app.event//EN
X-WR-TIMEZONE:Europe/Madrid
BEGIN:VEVENT
SUMMARY:Hora del conte: L'auca dels pastorets a càrrec d'Albert Estengre
DTSTART;TZID=Europe/Madrid;VALUE=DATE-TIME:20161210T120000
DTEND;TZID=Europe/Madrid;VALUE=DATE-TIME:20161210T130000
DTSTAMP;VALUE=DATE-TIME:20260423T051359Z
UID:757e53f2e915f6b7a112b9cbea082987
CREATED;VALUE=DATE-TIME:20161210T000000Z
CATEGORIES:Infantils
LOCATION:Biblioteca P. Gual i Pujadas
ORGANIZER:Biblioteca P. Gual i Pujadas
COMMENT:Preu: Gratuït
URL:https://www.canetdemar.cat/document.php?id=15111
END:VEVENT
END:VCALENDAR