BEGIN:VCALENDAR
VERSION:2.0
PRODID:-//Plone.org//NONSGML plone.app.event//EN
X-WR-TIMEZONE:Europe/Madrid
BEGIN:VEVENT
SUMMARY:Hora del conte: Per què hi ha tantes pedres en el fons dels rius?  a càrrec de Fabiola Bernal
DTSTART;TZID=Europe/Madrid;VALUE=DATE-TIME:20161008T120000
DTEND;TZID=Europe/Madrid;VALUE=DATE-TIME:20161008T130000
DTSTAMP;VALUE=DATE-TIME:20260423T200453Z
UID:927ec0f1a4eaa2e4c78412ca1ac715d6
CREATED;VALUE=DATE-TIME:20161008T000000Z
CATEGORIES:Infantils
LOCATION:Biblioteca P. Gual i Pujadas
URL:https://www.canetdemar.cat/document.php?id=15106
END:VEVENT
END:VCALENDAR